BEGIN:VCALENDAR
PRODID:RAVE.CA V17.0
X-WR-CALNAME:Ethikal Kulture
X-ORIGINAL-URL:https://www.rave.ca/event/18085/
VERSION:2.0
CALSCALE:GREGORIAN
METHOD:PUBLISH
BEGIN:VEVENT
DTSTAMP:20071223T172747Z
LAST-MODIFIED:20071223T172747Z
CREATED:20071223T172424Z
SEQUENCE:18085
ORGANIZER:Ethikal
DTSTART:20011108T210000Z
DTEND:20011108T210000Z
UID:event_18085@rave.ca
SUMMARY:Ethikal Kulture
LOCATION:Angels\, Club
URL:https://www.rave.ca/event/18085/
DESCRIPTION:Ethikal Kulture\nEvery Thursday Night\nStarts Nov. 8th. 2001\n\nUrban Street Musik\n\nDance floor friendly...\nBreak Beats:\nSomsay\, DJ Slim\n\nDrum & Bass:\nSase One\, Rick Toxic\, DJ Spinal\, Corey K\, Wildchild\, MC Kricket\n\n2-Step\, UK Garage\n\nTurntablism:\nDJ Mana\n\nBeat Boxing\nAbra\n\n"Positive Urban Kulture"
CLASS:PUBLIC
CATEGORIES:
STATUS:CONFIRMED
PARTSTAT:ACCEPTED
END:VEVENT
END:VCALENDAR
