BEGIN:VCALENDAR
PRODID:RAVE.CA V17.0
X-WR-CALNAME:DJ Shadow, Cut Chemist
X-ORIGINAL-URL:https://www.rave.ca/event/18073/
VERSION:2.0
CALSCALE:GREGORIAN
METHOD:PUBLISH
BEGIN:VEVENT
DTSTAMP:20080108T205638Z
LAST-MODIFIED:20080108T205638Z
CREATED:20071222T220003Z
SEQUENCE:18073
ORGANIZER:Unknown
DTSTART:20080129T210000Z
DTEND:20080129T210000Z
UID:event_18073@rave.ca
SUMMARY:DJ Shadow\, Cut Chemist
LOCATION:Spectrum
URL:https://www.rave.ca/event/18073/
DESCRIPTION:$26.33 in advance / $30.72 at the door\n\nLocation:  Spectrum
CLASS:PUBLIC
CATEGORIES:
STATUS:CONFIRMED
PARTSTAT:ACCEPTED
END:VEVENT
END:VCALENDAR
