BEGIN:VCALENDAR
PRODID:RAVE.CA V17.0
X-WR-CALNAME:Ninja Tune @ Igloofest 2008
X-ORIGINAL-URL:https://www.rave.ca/event/17886/
VERSION:2.0
CALSCALE:GREGORIAN
METHOD:PUBLISH
BEGIN:VEVENT
DTSTAMP:20071122T141024Z
LAST-MODIFIED:20071122T141024Z
CREATED:20071120T140609Z
SEQUENCE:17886
ORGANIZER:Piknic Electronik
DTSTART:20080125T180000Z
DTEND:20080126T000000Z
UID:event_17886@rave.ca
SUMMARY:Ninja Tune @ Igloofest 2008
LOCATION:Quai Jacques-Cartier
URL:https://www.rave.ca/event/17886/
DESCRIPTION:5$ avant 20hrs\n10$ après 20hrs
CLASS:PUBLIC
CATEGORIES:
STATUS:CONFIRMED
PARTSTAT:ACCEPTED
END:VEVENT
END:VCALENDAR
