BEGIN:VCALENDAR
PRODID:RAVE.CA V17.0
X-WR-CALNAME:20e Anniversaire De CKUT 90.3 FM
X-ORIGINAL-URL:https://www.rave.ca/event/17854/
VERSION:2.0
CALSCALE:GREGORIAN
METHOD:PUBLISH
BEGIN:VEVENT
DTSTAMP:20071113T200435Z
LAST-MODIFIED:20071113T200435Z
CREATED:20071113T200427Z
SEQUENCE:17854
ORGANIZER:Unknown
DTSTART:20071115T210000Z
DTEND:20071115T210000Z
UID:event_17854@rave.ca
SUMMARY:20e Anniversaire De CKUT 90.3 FM
LOCATION:Sala Rossa\, La
URL:https://www.rave.ca/event/17854/
DESCRIPTION:
CLASS:PUBLIC
CATEGORIES:
STATUS:CONFIRMED
PARTSTAT:ACCEPTED
END:VEVENT
END:VCALENDAR
