BEGIN:VCALENDAR
PRODID:RAVE.CA V17.0
X-WR-CALNAME:Bal en Blanc 14
X-ORIGINAL-URL:https://www.rave.ca/event/17847/
VERSION:2.0
CALSCALE:GREGORIAN
METHOD:PUBLISH
BEGIN:VEVENT
DTSTAMP:20080308T221619Z
LAST-MODIFIED:20080308T221619Z
CREATED:20071113T182314Z
SEQUENCE:17847
ORGANIZER:Unknown
DTSTART:20080323T213000Z
DTEND:20080323T210000Z
UID:event_17847@rave.ca
SUMMARY:Bal en Blanc 14
LOCATION:Palais des Congrès de Montréal
URL:https://www.rave.ca/event/17847/
DESCRIPTION:
CLASS:PUBLIC
CATEGORIES:
STATUS:CONFIRMED
PARTSTAT:ACCEPTED
END:VEVENT
END:VCALENDAR
