BEGIN:VCALENDAR
PRODID:RAVE.CA V17.0
X-WR-CALNAME:Sugr 2
X-ORIGINAL-URL:https://www.rave.ca/event/17799/
VERSION:2.0
CALSCALE:GREGORIAN
METHOD:PUBLISH
BEGIN:VEVENT
DTSTAMP:20080208T005802Z
LAST-MODIFIED:20080208T005802Z
CREATED:20071106T223559Z
SEQUENCE:17799
ORGANIZER:Akarien Productions & Management
DTSTART:20080216T220000Z
DTEND:20080216T220000Z
UID:event_17799@rave.ca
SUMMARY:Sugr 2
LOCATION:Theatre Sans-Fil
URL:https://www.rave.ca/event/17799/
DESCRIPTION:SUGR 2\nle samedi 16 février 2008 au Théatre Sans-Fil\n\nVenez prendre votre dose de SUGR samedi le 16 février 2008 alors qu’Akarien et Tech Safari unissent leur force pour vous donner l’événement multidisciplinaire le plus ‘’sweet’’ de la St-Valentin!! Une nuit ou l’art\, la dance\, la vidéo et la musique se conjuguent et nous emportent à un niveau supérieur. LOVE!!!\n\nSurveillez les sachets de sucre!!!
CLASS:PUBLIC
CATEGORIES:
STATUS:CONFIRMED
PARTSTAT:ACCEPTED
END:VEVENT
END:VCALENDAR
