BEGIN:VCALENDAR
PRODID:RAVE.CA V17.0
X-WR-CALNAME:Punk Raver Kids
X-ORIGINAL-URL:https://www.rave.ca/event/1766/
VERSION:2.0
CALSCALE:GREGORIAN
METHOD:PUBLISH
BEGIN:VEVENT
DTSTAMP:20040529T000000Z
LAST-MODIFIED:20040529T000000Z
CREATED:20030830T000000Z
SEQUENCE:1766
ORGANIZER:Renegade Legion
DTSTART:20030830T000000Z
DTEND:20030830T000000Z
UID:event_1766@rave.ca
SUMMARY:Punk Raver Kids
LOCATION:Insomnia
URL:https://www.rave.ca/event/1766/
DESCRIPTION:514-203-5655
CLASS:PUBLIC
CATEGORIES:
STATUS:CONFIRMED
PARTSTAT:ACCEPTED
END:VEVENT
END:VCALENDAR
