BEGIN:VCALENDAR
PRODID:RAVE.CA V17.0
X-WR-CALNAME:Tierra Azul: Vibrasphere Live
X-ORIGINAL-URL:https://www.rave.ca/event/17624/
VERSION:2.0
CALSCALE:GREGORIAN
METHOD:PUBLISH
BEGIN:VEVENT
DTSTAMP:20090309T130222Z
LAST-MODIFIED:20090309T130222Z
CREATED:20071016T011432Z
SEQUENCE:17624
ORGANIZER:Unknown
DTSTART:20071116T220000Z
DTEND:20071117T053000Z
UID:event_17624@rave.ca
SUMMARY:Tierra Azul: Vibrasphere Live
LOCATION:Reverb\, Club
URL:https://www.rave.ca/event/17624/
DESCRIPTION:hakti Collective proudly presents an event not to be missed\n\nTierra Azul\n\nfeaturing\n\nVIBRASPHERE Live\n(Sweden: Tribal Vision Records\, Digital Structures)\n\nFor close to a decade\, Swedish duo Rickard Berglöf and Robert Elster have been pumping out tracks from their Cloud 99 Studios. Their first three albums\, Echo (2001)\, Lime Structures (2003) and Archipelago (also on Digital Structures) are regarded seminal releases. Riding on the back of their successful 2006 release Archipelago (and its subsequent remix cd)\, Vibrasphere released its fourth album\, Exploring the Tributaries on Tribal Vision Records\, which sought to experiment with sounds from a wide range of styles including club influenced progressive\, electro-minimal and downbeat-chill. Rickard and Robert have put to good use their years of studio experience in creating a sound that will be both timeless and contemporary. For this performance Rikard makes his return to Toronto to make the dance floor glide with Vibrasphere’s smooth and uplifting sound.\n\nLandmark Room\nBlake Daily (Indalo Records)\nShankar (Tribal Vision Records)\nPlan B\nLexicon\n\nReservoir Room\nLex (Legion of Green Men)\nkNeptune LIVE\nQuietly Quivering (Kistmet)\nDavey Boom (Kismet)\nMandelbrot (BLA)\n\nPurple Floating Visuals\nVJ Guy\n\nForever Imaginary Deco\nNeil Gibson\nTomasz Ceisla\n\nFriday November 16th\, 10pm-5:30am\nReverb Night Club (and Chill in Holy Joe’s)\n651 Queen Street West\nToronto\n\n\nTickets $20 In Advance\, More At the Door (Available Soon!!)\n19+
CLASS:PUBLIC
CATEGORIES:
STATUS:CONFIRMED
PARTSTAT:ACCEPTED
END:VEVENT
END:VCALENDAR
