BEGIN:VCALENDAR
PRODID:RAVE.CA V17.0
X-WR-CALNAME:La Transe Des Neiges
X-ORIGINAL-URL:https://www.rave.ca/event/17582/
VERSION:2.0
CALSCALE:GREGORIAN
METHOD:PUBLISH
BEGIN:VEVENT
DTSTAMP:20071016T184446Z
LAST-MODIFIED:20071016T184446Z
CREATED:20071012T155618Z
SEQUENCE:17582
ORGANIZER:Unknown
DTSTART:20070216T210000Z
DTEND:20070216T210000Z
UID:event_17582@rave.ca
SUMMARY:La Transe Des Neiges
LOCATION:Unknown
URL:https://www.rave.ca/event/17582/
DESCRIPTION:
CLASS:PUBLIC
CATEGORIES:
STATUS:CONFIRMED
PARTSTAT:ACCEPTED
END:VEVENT
END:VCALENDAR
