BEGIN:VCALENDAR
PRODID:RAVE.CA V17.0
X-WR-CALNAME:Goldfrapp
X-ORIGINAL-URL:https://www.rave.ca/event/1750/
VERSION:2.0
CALSCALE:GREGORIAN
METHOD:PUBLISH
BEGIN:VEVENT
DTSTAMP:20040405T000000Z
LAST-MODIFIED:20040405T000000Z
CREATED:20030922T000000Z
SEQUENCE:1750
ORGANIZER:Unknown
DTSTART:20030922T000000Z
DTEND:20030922T000000Z
UID:event_1750@rave.ca
SUMMARY:Goldfrapp
LOCATION:Spectrum
URL:https://www.rave.ca/event/1750/
DESCRIPTION:Goldfrapp concert. Unknown opening band.
CLASS:PUBLIC
CATEGORIES:
STATUS:CONFIRMED
PARTSTAT:ACCEPTED
END:VEVENT
END:VCALENDAR
