BEGIN:VCALENDAR
PRODID:RAVE.CA V17.0
X-WR-CALNAME:64Hz Session.1
X-ORIGINAL-URL:https://www.rave.ca/event/17374/
VERSION:2.0
CALSCALE:GREGORIAN
METHOD:PUBLISH
BEGIN:VEVENT
DTSTAMP:20071012T181545Z
LAST-MODIFIED:20071012T181545Z
CREATED:20070915T142739Z
SEQUENCE:17374
ORGANIZER:64hz
DTSTART:20071013T210000Z
DTEND:20071014T080000Z
UID:event_17374@rave.ca
SUMMARY:64Hz Session.1
LOCATION:Unknown
URL:https://www.rave.ca/event/17374/
DESCRIPTION:64 hertz is proud to present SESSION.1\n\n\nDJS\n\n\nJEAN S 64Hz(MTL): minimal techno/electro\n\nREDDEN 64Hz/noerg(MTL): breaks\,techno\n\nDOROBO 64Hz\, digital militia(MTL): dub\, breaks\, techno\n\nMIKE DEE noerg\, ODB(MTL): techno\n\nSHANKAR shakti collective / tribal vision(TO): progressive trance\n\nOlivier Saint-Germain noerg(MTL): minimal techno\n\nLEXICON shakti collective(TO): electro\,techno\,prog house
CLASS:PUBLIC
CATEGORIES:
STATUS:CONFIRMED
PARTSTAT:ACCEPTED
END:VEVENT
END:VCALENDAR
