BEGIN:VCALENDAR
PRODID:RAVE.CA V17.0
X-WR-CALNAME:Hardcore
X-ORIGINAL-URL:https://www.rave.ca/event/1733/
VERSION:2.0
CALSCALE:GREGORIAN
METHOD:PUBLISH
BEGIN:VEVENT
DTSTAMP:20040324T010000Z
LAST-MODIFIED:20040324T010000Z
CREATED:20030814T000000Z
SEQUENCE:1733
ORGANIZER:Unknown
DTSTART:20030814T000000Z
DTEND:20030814T000000Z
UID:event_1733@rave.ca
SUMMARY:Hardcore
LOCATION:Amnesia
URL:https://www.rave.ca/event/1733/
DESCRIPTION:Hardcore night @ Amnesia starts @ 10:30 till 3a.m
CLASS:PUBLIC
CATEGORIES:
STATUS:CONFIRMED
PARTSTAT:ACCEPTED
END:VEVENT
END:VCALENDAR
