BEGIN:VCALENDAR
PRODID:RAVE.CA V17.0
X-WR-CALNAME:Starlight 2
X-ORIGINAL-URL:https://www.rave.ca/event/1713/
VERSION:2.0
CALSCALE:GREGORIAN
METHOD:PUBLISH
BEGIN:VEVENT
DTSTAMP:20040928T000000Z
LAST-MODIFIED:20040928T000000Z
CREATED:20040124T000000Z
SEQUENCE:1713
ORGANIZER:Trance NRG
DTSTART:20040124T000000Z
DTEND:20040124T000000Z
UID:event_1713@rave.ca
SUMMARY:Starlight 2
LOCATION:Montreal
URL:https://www.rave.ca/event/1713/
DESCRIPTION:From those Who presented Impact On June 7th 2003. We are proud to bring back to you Starlight. Approximitly 2 Years Ago around 600 peoples where there in March 2002 for this events. Now it's back to kick your ass!
CLASS:PUBLIC
CATEGORIES:
STATUS:CONFIRMED
PARTSTAT:ACCEPTED
END:VEVENT
END:VCALENDAR
