BEGIN:VCALENDAR
PRODID:RAVE.CA V17.0
X-WR-CALNAME:Nick Warren
X-ORIGINAL-URL:https://www.rave.ca/event/17113/
VERSION:2.0
CALSCALE:GREGORIAN
METHOD:PUBLISH
BEGIN:VEVENT
DTSTAMP:20070826T143539Z
LAST-MODIFIED:20070826T143539Z
CREATED:20070826T143530Z
SEQUENCE:17113
ORGANIZER:Unknown
DTSTART:20070905T220000Z
DTEND:20070905T220000Z
UID:event_17113@rave.ca
SUMMARY:Nick Warren
LOCATION:Heaven\, Club
URL:https://www.rave.ca/event/17113/
DESCRIPTION:
CLASS:PUBLIC
CATEGORIES:
STATUS:CONFIRMED
PARTSTAT:ACCEPTED
END:VEVENT
END:VCALENDAR
