BEGIN:VCALENDAR
PRODID:RAVE.CA V17.0
X-WR-CALNAME:Neurotik Fait l&#039;Éco-Fest
X-ORIGINAL-URL:https://www.rave.ca/event/17103/
VERSION:2.0
CALSCALE:GREGORIAN
METHOD:PUBLISH
BEGIN:VEVENT
DTSTAMP:20070824T143958Z
LAST-MODIFIED:20070824T143958Z
CREATED:20070824T142215Z
SEQUENCE:17103
ORGANIZER:Unknown
DTSTART:20070825T190000Z
DTEND:20070825T230000Z
UID:event_17103@rave.ca
SUMMARY:Neurotik Fait l'Éco-Fest
LOCATION:Unknown
URL:https://www.rave.ca/event/17103/
DESCRIPTION:Neurotik pose son son en partenariat avec l'Éco-Fest au Parc Émilie-Gamelin (Parc Berri)\, métro Berri-Uqam\, sortie Bérri\, de 19h à 23h\, les vendredis 24 et samedi 25 aout.\n\nOn vous attend nombreux\, venez montrer qu'une scène électronique underground existe à Montréal!\n\nL'écofest sert des repas gratuits et fait la promotion de pratiques de consommation alternatives\, en lien avec le forum social québécois.
CLASS:PUBLIC
CATEGORIES:
STATUS:CONFIRMED
PARTSTAT:ACCEPTED
END:VEVENT
END:VCALENDAR
