BEGIN:VCALENDAR
PRODID:RAVE.CA V17.0
X-WR-CALNAME:Music &amp; Friends: NVX 5 - Bogen&#039;s Birthday Edition
X-ORIGINAL-URL:https://www.rave.ca/event/16978/
VERSION:2.0
CALSCALE:GREGORIAN
METHOD:PUBLISH
BEGIN:VEVENT
DTSTAMP:20070816T125239Z
LAST-MODIFIED:20070816T125239Z
CREATED:20070813T132657Z
SEQUENCE:16978
ORGANIZER:Neuro Vortex
DTSTART:20070906T220000Z
DTEND:20070907T030000Z
UID:event_16978@rave.ca
SUMMARY:Music & Friends: NVX 5 - Bogen's Birthday Edition
LOCATION:Sonar
URL:https://www.rave.ca/event/16978/
DESCRIPTION:NVX & Friends 5\n\nSpécial pour la fête à spannungsbogen qui es née le 6 septembre!\n\n!!!GRATUIT!!!
CLASS:PUBLIC
CATEGORIES:
STATUS:CONFIRMED
PARTSTAT:ACCEPTED
END:VEVENT
END:VCALENDAR
