BEGIN:VCALENDAR
PRODID:RAVE.CA V17.0
X-WR-CALNAME:Marco G, Cotton, Angelika
X-ORIGINAL-URL:https://www.rave.ca/event/16905/
VERSION:2.0
CALSCALE:GREGORIAN
METHOD:PUBLISH
BEGIN:VEVENT
DTSTAMP:20070810T004237Z
LAST-MODIFIED:20070810T004237Z
CREATED:20070810T004233Z
SEQUENCE:16905
ORGANIZER:Unknown
DTSTART:20070811T210000Z
DTEND:20070811T210000Z
UID:event_16905@rave.ca
SUMMARY:Marco G\, Cotton\, Angelika
LOCATION:Systeme
URL:https://www.rave.ca/event/16905/
DESCRIPTION:
CLASS:PUBLIC
CATEGORIES:
STATUS:CONFIRMED
PARTSTAT:ACCEPTED
END:VEVENT
END:VCALENDAR
