BEGIN:VCALENDAR
PRODID:RAVE.CA V17.0
X-WR-CALNAME:Drixx, D-Vice
X-ORIGINAL-URL:https://www.rave.ca/event/16890/
VERSION:2.0
CALSCALE:GREGORIAN
METHOD:PUBLISH
BEGIN:VEVENT
DTSTAMP:20070810T003655Z
LAST-MODIFIED:20070810T003655Z
CREATED:20070810T003649Z
SEQUENCE:16890
ORGANIZER:Unknown
DTSTART:20070810T210000Z
DTEND:20070810T210000Z
UID:event_16890@rave.ca
SUMMARY:Drixx\, D-Vice
LOCATION:Systeme
URL:https://www.rave.ca/event/16890/
DESCRIPTION:
CLASS:PUBLIC
CATEGORIES:
STATUS:CONFIRMED
PARTSTAT:ACCEPTED
END:VEVENT
END:VCALENDAR
