BEGIN:VCALENDAR
PRODID:RAVE.CA V17.0
X-WR-CALNAME:Tom Stephan, Kevin Aviance, DJ J-Cue
X-ORIGINAL-URL:https://www.rave.ca/event/16815/
VERSION:2.0
CALSCALE:GREGORIAN
METHOD:PUBLISH
BEGIN:VEVENT
DTSTAMP:20070802T005732Z
LAST-MODIFIED:20070802T005732Z
CREATED:20070802T005727Z
SEQUENCE:16815
ORGANIZER:Unknown
DTSTART:20070805T210000Z
DTEND:20070805T210000Z
UID:event_16815@rave.ca
SUMMARY:Tom Stephan\, Kevin Aviance\, DJ J-Cue
LOCATION:Tribe Hyperclub
URL:https://www.rave.ca/event/16815/
DESCRIPTION:
CLASS:PUBLIC
CATEGORIES:
STATUS:CONFIRMED
PARTSTAT:ACCEPTED
END:VEVENT
END:VCALENDAR
