BEGIN:VCALENDAR
PRODID:RAVE.CA V17.0
X-WR-CALNAME:Soundwave-Shakti Collective&#039;s 3rd B-Day Party-September 29th
X-ORIGINAL-URL:https://www.rave.ca/event/16752/
VERSION:2.0
CALSCALE:GREGORIAN
METHOD:PUBLISH
BEGIN:VEVENT
DTSTAMP:20070731T194113Z
LAST-MODIFIED:20070731T194113Z
CREATED:20070731T112048Z
SEQUENCE:16752
ORGANIZER:Unknown
DTSTART:20070929T220000Z
DTEND:20070930T060000Z
UID:event_16752@rave.ca
SUMMARY:Soundwave-Shakti Collective's 3rd B-Day Party-September 29th
LOCATION:Opium Lounge
URL:https://www.rave.ca/event/16752/
DESCRIPTION:SOUNDWAVE \nOn the occasion of Shakti Collective’s 3rd Anniversary\, we proudly present \n\nBeauty and the Beat \n(Plastik Park/Sprout/SOG/Tribal Vision\, UK/Germany) \nShakti proudly presents the internationally acclaimed wife and husband DJ team whose sets have been stoking up dance floors around the world. Sally Doolally and Goetzlich have dished out fresh\, groovy and sexy progressive sounds at huge international festivals like Voov\, Soulclipse\, Rainbow Serpent and BOOM\, playing alongside acts like Minilogue\, D-Nox & Beckers\, Atmos\, Phony Orphants and Tegma. The couple has recently delved into music production with their creative mate Nuke\, winning Tribal Vision’s “Floating Free” Remix competition and set to release a series of tracks on SOG Records and Baroque. Sally and Goetz will each play a set in their first ever appearance in North America. Get ready to groove it up! \n\nDJs \nLexicon (Shakti Collective/Metamystix\, Toronto) \nShankar (Tribal Vision Records/Shakti Collective\, Toronto) \nPlan B (Shakti Collective\, Toronto) \n\nCHILL ROOM \nBasilisk (Ektoplazm\, Toronto) \nKristian Sunflower (sumkidz\, Toronto) \nQuietly Quivering (Eloko\, Toronto) \nPlan B \n\nDECO \nTomasz Ciesla (Toronto) \n\nVISUALS \nWuzzle vs Ivygrrl \n\nSaturday\, September 29th\, 10pm-?? \nOpium Lounge \n222 Richmond Street West\, Toronto \n\n$20 in advance\, more at the door \n19+ \n\nTickets Will Be Available at: \nShanti Baba\, 546 Queen Street West \nMoog Audio\, 442 Queen Street West \n\nFirst 100 people receive exclusive Beauty & The Beat Mixed CD \n\nhttp://www.shakticollective.com \n\nOut of town email shakticollective@gmail.com
CLASS:PUBLIC
CATEGORIES:
STATUS:CONFIRMED
PARTSTAT:ACCEPTED
END:VEVENT
END:VCALENDAR
