BEGIN:VCALENDAR
PRODID:RAVE.CA V17.0
X-WR-CALNAME:SECRET PLAYGROUND
X-ORIGINAL-URL:https://www.rave.ca/event/16735/
VERSION:2.0
CALSCALE:GREGORIAN
METHOD:PUBLISH
BEGIN:VEVENT
DTSTAMP:20070727T142458Z
LAST-MODIFIED:20070727T142458Z
CREATED:20070727T141616Z
SEQUENCE:16735
ORGANIZER:Unknown
DTSTART:20070727T220000Z
DTEND:20070728T030000Z
UID:event_16735@rave.ca
SUMMARY:SECRET PLAYGROUND
LOCATION:Club Tools: 1592 Sainte-Catherine Est
URL:https://www.rave.ca/event/16735/
DESCRIPTION:Fetish night with DJ DAVIDÉ @ Club Tools \n\nHOT LINE: (514) 806-0109 Club Tools: 1592 Sainte-Catherine Est\n\nhttp://www.attitudes.cc
CLASS:PUBLIC
CATEGORIES:
STATUS:CONFIRMED
PARTSTAT:ACCEPTED
END:VEVENT
END:VCALENDAR
