BEGIN:VCALENDAR
PRODID:RAVE.CA V17.0
X-WR-CALNAME:Rock The Bells!
X-ORIGINAL-URL:https://www.rave.ca/event/16730/
VERSION:2.0
CALSCALE:GREGORIAN
METHOD:PUBLISH
BEGIN:VEVENT
DTSTAMP:20070726T232425Z
LAST-MODIFIED:20070726T232425Z
CREATED:20070726T232216Z
SEQUENCE:16730
ORGANIZER:Unknown
DTSTART:20070726T210000Z
DTEND:20070726T210000Z
UID:event_16730@rave.ca
SUMMARY:Rock The Bells!
LOCATION:Unknown
URL:https://www.rave.ca/event/16730/
DESCRIPTION:Hiphop mega event of the summer on Randall's Island right off the coast of Manhatten - NYC BABY! -
CLASS:PUBLIC
CATEGORIES:
STATUS:CONFIRMED
PARTSTAT:ACCEPTED
END:VEVENT
END:VCALENDAR
