BEGIN:VCALENDAR
PRODID:RAVE.CA V17.0
X-WR-CALNAME:Electronic Brain 02: Hujaboy LIVE
X-ORIGINAL-URL:https://www.rave.ca/event/16686/
VERSION:2.0
CALSCALE:GREGORIAN
METHOD:PUBLISH
BEGIN:VEVENT
DTSTAMP:20080411T173429Z
LAST-MODIFIED:20080411T173429Z
CREATED:20070725T091233Z
SEQUENCE:16686
ORGANIZER:Unknown
DTSTART:20080418T220000Z
DTEND:20080419T090000Z
UID:event_16686@rave.ca
SUMMARY:Electronic Brain 02: Hujaboy LIVE
LOCATION:Theatre Sans-Fil
URL:https://www.rave.ca/event/16686/
DESCRIPTION:Dream Records et Trancefusion presentent:\n\nELECTRONIK BRAIN : 2eme edition avec HUJABOY LIVE (TIP WORLD / ISRAEL)\n\n\n-----------------/-----------------\n\n\nHUJABOY LIVE / Israel (( T.I.P. WORLD ))\nhttp://profile.myspace.com/index.cfm?fuseaction=user.viewprofile&friendid=88120606\n\nSINE DIE LIVE / France (( HADRA RECORDS ))\n\nCOSMIC ORGASM LIVE / Montreal (( DREAM RECORDS ))\n\nAZRIEL LIVE / Quebec (( AVIGMATIC FRANCE - NVX QUEBEC ))\n\nHATTERIA LIVE / Lachute (( FREAK ISLAND RECORD )\n\nKODE SIX LIVE /MONTREAL ((PHONOLITE.CA - LSP (UK) ))\n\nVIRTUAL LIGHT LIVE / Ottawa (( GEOMAGNETIC TV - PRISMCODE ))\n\nSPIRAX DJ set / Colombie - Montreal (( TRANCEFUSION ))\n\nSUN HUNTER DJ set / Montreal (( DREAM RECORDS ))\n\nANIMA DJ set / Montreal (( OUI-R1\, FILTHY CREW ))\n\n+++++++++++++++++++++\n\nVJ Athanore : www.athanore.com \n\n+++++++++++++++++++++
CLASS:PUBLIC
CATEGORIES:
STATUS:CONFIRMED
PARTSTAT:ACCEPTED
END:VEVENT
END:VCALENDAR
