BEGIN:VCALENDAR
PRODID:RAVE.CA V17.0
X-WR-CALNAME:Dance in Trance
X-ORIGINAL-URL:https://www.rave.ca/event/16635/
VERSION:2.0
CALSCALE:GREGORIAN
METHOD:PUBLISH
BEGIN:VEVENT
DTSTAMP:20070721T194103Z
LAST-MODIFIED:20070721T194103Z
CREATED:20070721T010837Z
SEQUENCE:16635
ORGANIZER:Unknown
DTSTART:20070720T210000Z
DTEND:20070720T210000Z
UID:event_16635@rave.ca
SUMMARY:Dance in Trance
LOCATION:Chill Montreal
URL:https://www.rave.ca/event/16635/
DESCRIPTION:
CLASS:PUBLIC
CATEGORIES:
STATUS:CONFIRMED
PARTSTAT:ACCEPTED
END:VEVENT
END:VCALENDAR
