BEGIN:VCALENDAR
PRODID:RAVE.CA V17.0
X-WR-CALNAME:Sydney Blu, Patrick Dream, DJ Frigid
X-ORIGINAL-URL:https://www.rave.ca/event/16519/
VERSION:2.0
CALSCALE:GREGORIAN
METHOD:PUBLISH
BEGIN:VEVENT
DTSTAMP:20070712T084854Z
LAST-MODIFIED:20070712T084854Z
CREATED:20070712T084848Z
SEQUENCE:16519
ORGANIZER:Unknown
DTSTART:20070715T210000Z
DTEND:20070715T210000Z
UID:event_16519@rave.ca
SUMMARY:Sydney Blu\, Patrick Dream\, DJ Frigid
LOCATION:Parking\, Club
URL:https://www.rave.ca/event/16519/
DESCRIPTION:
CLASS:PUBLIC
CATEGORIES:
STATUS:CONFIRMED
PARTSTAT:ACCEPTED
END:VEVENT
END:VCALENDAR
