BEGIN:VCALENDAR
PRODID:RAVE.CA V17.0
X-WR-CALNAME:Staff Sundays w/ Bear &amp; XL
X-ORIGINAL-URL:https://www.rave.ca/event/16452/
VERSION:2.0
CALSCALE:GREGORIAN
METHOD:PUBLISH
BEGIN:VEVENT
DTSTAMP:20070708T111907Z
LAST-MODIFIED:20070708T111907Z
CREATED:20070708T111900Z
SEQUENCE:16452
ORGANIZER:Unknown
DTSTART:20070722T210000Z
DTEND:20070722T210000Z
UID:event_16452@rave.ca
SUMMARY:Staff Sundays w/ Bear & XL
LOCATION:Stereo
URL:https://www.rave.ca/event/16452/
DESCRIPTION:
CLASS:PUBLIC
CATEGORIES:
STATUS:CONFIRMED
PARTSTAT:ACCEPTED
END:VEVENT
END:VCALENDAR
