BEGIN:VCALENDAR
PRODID:RAVE.CA V17.0
X-WR-CALNAME:Summer spirit
X-ORIGINAL-URL:https://www.rave.ca/event/16358/
VERSION:2.0
CALSCALE:GREGORIAN
METHOD:PUBLISH
BEGIN:VEVENT
DTSTAMP:20070703T134337Z
LAST-MODIFIED:20070703T134337Z
CREATED:20070703T133925Z
SEQUENCE:16358
ORGANIZER:Unknown
DTSTART:20070715T220000Z
DTEND:20070715T220000Z
UID:event_16358@rave.ca
SUMMARY:Summer spirit
LOCATION:Chill Montreal
URL:https://www.rave.ca/event/16358/
DESCRIPTION:10$ la porte avec une bouteille d eau  18 ans et plus
CLASS:PUBLIC
CATEGORIES:
STATUS:CONFIRMED
PARTSTAT:ACCEPTED
END:VEVENT
END:VCALENDAR
