BEGIN:VCALENDAR
PRODID:RAVE.CA V17.0
X-WR-CALNAME:Infected Mushroom
X-ORIGINAL-URL:https://www.rave.ca/event/16337/
VERSION:2.0
CALSCALE:GREGORIAN
METHOD:PUBLISH
BEGIN:VEVENT
DTSTAMP:20070724T024847Z
LAST-MODIFIED:20070724T024847Z
CREATED:20070628T145849Z
SEQUENCE:16337
ORGANIZER:Unknown
DTSTART:20070905T210000Z
DTEND:20070905T210000Z
UID:event_16337@rave.ca
SUMMARY:Infected Mushroom
LOCATION:Univercités Laval
URL:https://www.rave.ca/event/16337/
DESCRIPTION:
CLASS:PUBLIC
CATEGORIES:
STATUS:CONFIRMED
PARTSTAT:ACCEPTED
END:VEVENT
END:VCALENDAR
