BEGIN:VCALENDAR
PRODID:RAVE.CA V17.0
X-WR-CALNAME:RAW
X-ORIGINAL-URL:https://www.rave.ca/event/16335/
VERSION:2.0
CALSCALE:GREGORIAN
METHOD:PUBLISH
BEGIN:VEVENT
DTSTAMP:20070629T221450Z
LAST-MODIFIED:20070629T221450Z
CREATED:20070628T145541Z
SEQUENCE:16335
ORGANIZER:Unknown
DTSTART:20070630T220000Z
DTEND:20070701T100000Z
UID:event_16335@rave.ca
SUMMARY:RAW
LOCATION:Unknown
URL:https://www.rave.ca/event/16335/
DESCRIPTION:all night dj loft party\n\nRobert de la Gauthier\nSean Kosa\nMy Favorite Robot\nDj Couture\n\n$8
CLASS:PUBLIC
CATEGORIES:
STATUS:CONFIRMED
PARTSTAT:ACCEPTED
END:VEVENT
END:VCALENDAR
