BEGIN:VCALENDAR
PRODID:RAVE.CA V17.0
X-WR-CALNAME:Les Akolytes Live
X-ORIGINAL-URL:https://www.rave.ca/event/16267/
VERSION:2.0
CALSCALE:GREGORIAN
METHOD:PUBLISH
BEGIN:VEVENT
DTSTAMP:20070618T141007Z
LAST-MODIFIED:20070618T141007Z
CREATED:20070618T140638Z
SEQUENCE:16267
ORGANIZER:Sa Coche
DTSTART:20070720T190000Z
DTEND:20070720T230000Z
UID:event_16267@rave.ca
SUMMARY:Les Akolytes Live
LOCATION:Bar L'Échanson
URL:https://www.rave.ca/event/16267/
DESCRIPTION:Les Akolytes Live en show..
CLASS:PUBLIC
CATEGORIES:
STATUS:CONFIRMED
PARTSTAT:ACCEPTED
END:VEVENT
END:VCALENDAR
