BEGIN:VCALENDAR
PRODID:RAVE.CA V17.0
X-WR-CALNAME:Les Akolytes première partie de L&#039;Assemblée
X-ORIGINAL-URL:https://www.rave.ca/event/16266/
VERSION:2.0
CALSCALE:GREGORIAN
METHOD:PUBLISH
BEGIN:VEVENT
DTSTAMP:20070618T141110Z
LAST-MODIFIED:20070618T141110Z
CREATED:20070618T135811Z
SEQUENCE:16266
ORGANIZER:Sa Coche
DTSTART:20070629T190000Z
DTEND:20070629T220000Z
UID:event_16266@rave.ca
SUMMARY:Les Akolytes première partie de L'Assemblée
LOCATION:271\, rue St-Eustache\, St-Eustache\, QC\, CAN
URL:https://www.rave.ca/event/16266/
DESCRIPTION:Show Hip-hop Les Akolytes première partie de L'Assemblée avec Treizième Étage et Cobna..
CLASS:PUBLIC
CATEGORIES:
STATUS:CONFIRMED
PARTSTAT:ACCEPTED
END:VEVENT
END:VCALENDAR
