BEGIN:VCALENDAR
PRODID:RAVE.CA V17.0
X-WR-CALNAME:Bliss
X-ORIGINAL-URL:https://www.rave.ca/event/16195/
VERSION:2.0
CALSCALE:GREGORIAN
METHOD:PUBLISH
BEGIN:VEVENT
DTSTAMP:20110622T000549Z
LAST-MODIFIED:20110622T000549Z
CREATED:20070608T190930Z
SEQUENCE:16195
ORGANIZER:Unknown
DTSTART:20080412T210000Z
DTEND:20080413T030000Z
UID:event_16195@rave.ca
SUMMARY:Bliss
LOCATION:Chevaliers de Colomb de L'Ancienne-Lorette\, 1300 de la Hutte\, L'Ancienne-Lorette
URL:https://www.rave.ca/event/16195/
DESCRIPTION:A celebration of the spring to come. The air is already hotter\, but we still feel winter is not so far behind yet. Let's welcome the warm and sunny days the way it should be.. blissfully. Join the dance!\n\nThe Summer Land: Bubbleheizer VS Sonik (happy) Quebec City\n                 Lonestar (UK) Montreal\n                 Cyre (freeform) Montreal\n                 Merkurius VS Pymo (gabber) Quebec City\n                 Unabomber (terror) Toronto\n                 Sickness (terror) Montreal\n                 Anatema (industrial) Quebec City\n\nThe Ice World: Fast Forward (break) Quebec City\n               The Scartat VS Selektone (drum'n'bass) \n               **Toronto VS Montreal**\n               Spo_Onani (drum'n'bass) Quebec City\n               Shango (Nighttime/Psy) Quebec City\n               Pixie (psy) Quebec City\n               Hopeku (psy) Quebec City\n               DTM (electro) Toronto\n               Freaktronik (electro) Quebec City
CLASS:PUBLIC
CATEGORIES:
STATUS:CONFIRMED
PARTSTAT:ACCEPTED
END:VEVENT
END:VCALENDAR
