BEGIN:VCALENDAR
PRODID:RAVE.CA V17.0
X-WR-CALNAME:DJ Mado
X-ORIGINAL-URL:https://www.rave.ca/event/16088/
VERSION:2.0
CALSCALE:GREGORIAN
METHOD:PUBLISH
BEGIN:VEVENT
DTSTAMP:20070605T220241Z
LAST-MODIFIED:20070605T220241Z
CREATED:20070605T220236Z
SEQUENCE:16088
ORGANIZER:Unknown
DTSTART:20070619T210000Z
DTEND:20070619T210000Z
UID:event_16088@rave.ca
SUMMARY:DJ Mado
LOCATION:Mado\, Cabaret
URL:https://www.rave.ca/event/16088/
DESCRIPTION:
CLASS:PUBLIC
CATEGORIES:
STATUS:CONFIRMED
PARTSTAT:ACCEPTED
END:VEVENT
END:VCALENDAR
