BEGIN:VCALENDAR
PRODID:RAVE.CA V17.0
X-WR-CALNAME:Fricoti
X-ORIGINAL-URL:https://www.rave.ca/event/15702/
VERSION:2.0
CALSCALE:GREGORIAN
METHOD:PUBLISH
BEGIN:VEVENT
DTSTAMP:20070503T174900Z
LAST-MODIFIED:20070503T174900Z
CREATED:20070503T155017Z
SEQUENCE:15702
ORGANIZER:Unknown
DTSTART:20070510T220000Z
DTEND:20070511T030000Z
UID:event_15702@rave.ca
SUMMARY:Fricoti
LOCATION:Salon Daome
URL:https://www.rave.ca/event/15702/
DESCRIPTION:Funky minimal house & techno\n\nMir_ soulsista
CLASS:PUBLIC
CATEGORIES:
STATUS:CONFIRMED
PARTSTAT:ACCEPTED
END:VEVENT
END:VCALENDAR
