BEGIN:VCALENDAR
PRODID:RAVE.CA V17.0
X-WR-CALNAME:Taurus Party!
X-ORIGINAL-URL:https://www.rave.ca/event/15680/
VERSION:2.0
CALSCALE:GREGORIAN
METHOD:PUBLISH
BEGIN:VEVENT
DTSTAMP:20070430T230608Z
LAST-MODIFIED:20070430T230608Z
CREATED:20070430T225502Z
SEQUENCE:15680
ORGANIZER:Unknown
DTSTART:20070512T220000Z
DTEND:20070513T060000Z
UID:event_15680@rave.ca
SUMMARY:Taurus Party!
LOCATION:Studio Loco 4877 St. Laurent (coin St. Joseph)
URL:https://www.rave.ca/event/15680/
DESCRIPTION:4th annual Taurus birthday party!\ncome celebrate spring\, psychedelic taurus-style!
CLASS:PUBLIC
CATEGORIES:
STATUS:CONFIRMED
PARTSTAT:ACCEPTED
END:VEVENT
END:VCALENDAR
