BEGIN:VCALENDAR
PRODID:RAVE.CA V17.0
X-WR-CALNAME:Diskhotek - Mateo Murphy, Jeff Grosse, Bald and the Beautiful
X-ORIGINAL-URL:https://www.rave.ca/event/15626/
VERSION:2.0
CALSCALE:GREGORIAN
METHOD:PUBLISH
BEGIN:VEVENT
DTSTAMP:20070517T094738Z
LAST-MODIFIED:20070517T094738Z
CREATED:20070425T173153Z
SEQUENCE:15626
ORGANIZER:Unknown
DTSTART:20070520T220000Z
DTEND:20070520T220000Z
UID:event_15626@rave.ca
SUMMARY:Diskhotek - Mateo Murphy\, Jeff Grosse\, Bald and the Beautiful
LOCATION:Stereo Bar
URL:https://www.rave.ca/event/15626/
DESCRIPTION:mateo has had several tracks on danny howells mixes\, so it only made sense to have him at the DANNY HOWELLS preparty at stereobar.\n\nMATEO MURPHY - can - TURBO /ARCHIPEL\nJEFF GROSSE - usa/can - DISKHO\nMATT DIMOND - usa - DIRTYBIRD /BALD AND THE BEAUTIFUL
CLASS:PUBLIC
CATEGORIES:
STATUS:CONFIRMED
PARTSTAT:ACCEPTED
END:VEVENT
END:VCALENDAR
