BEGIN:VCALENDAR
PRODID:RAVE.CA V17.0
X-WR-CALNAME:TGIT: Heat Induced Trance
X-ORIGINAL-URL:https://www.rave.ca/event/15618/
VERSION:2.0
CALSCALE:GREGORIAN
METHOD:PUBLISH
BEGIN:VEVENT
DTSTAMP:20070601T212623Z
LAST-MODIFIED:20070601T212623Z
CREATED:20070424T230309Z
SEQUENCE:15618
ORGANIZER:Project Mayhem
DTSTART:20070510T220000Z
DTEND:20070510T220000Z
UID:event_15618@rave.ca
SUMMARY:TGIT: Heat Induced Trance
LOCATION:Saphir\, Club
URL:https://www.rave.ca/event/15618/
DESCRIPTION:TGIT featuring tranceyyyy shet
CLASS:PUBLIC
CATEGORIES:
STATUS:CONFIRMED
PARTSTAT:ACCEPTED
END:VEVENT
END:VCALENDAR
