BEGIN:VCALENDAR
PRODID:RAVE.CA V17.0
X-WR-CALNAME:Omnikrom + Numero #
X-ORIGINAL-URL:https://www.rave.ca/event/15616/
VERSION:2.0
CALSCALE:GREGORIAN
METHOD:PUBLISH
BEGIN:VEVENT
DTSTAMP:20070524T191338Z
LAST-MODIFIED:20070524T191338Z
CREATED:20070424T225626Z
SEQUENCE:15616
ORGANIZER:Unknown
DTSTART:20070509T200000Z
DTEND:20070509T020000Z
UID:event_15616@rave.ca
SUMMARY:Omnikrom + Numero #
LOCATION:Foufounes électriques
URL:https://www.rave.ca/event/15616/
DESCRIPTION:
CLASS:PUBLIC
CATEGORIES:
STATUS:CONFIRMED
PARTSTAT:ACCEPTED
END:VEVENT
END:VCALENDAR
