BEGIN:VCALENDAR
PRODID:RAVE.CA V17.0
X-WR-CALNAME:B4 after party
X-ORIGINAL-URL:https://www.rave.ca/event/15590/
VERSION:2.0
CALSCALE:GREGORIAN
METHOD:PUBLISH
BEGIN:VEVENT
DTSTAMP:20070420T200932Z
LAST-MODIFIED:20070420T200932Z
CREATED:20070419T015148Z
SEQUENCE:15590
ORGANIZER:Unknown
DTSTART:20070422T100000Z
DTEND:20070422T100000Z
UID:event_15590@rave.ca
SUMMARY:B4 after party
LOCATION:Chill Montreal
URL:https://www.rave.ca/event/15590/
DESCRIPTION:10$ l'entrée avec une bouteille d'eau 18 ans et plus\n\n  Les after party B4 seront bientot fini pour cette saison\,\nalors le Chill Montréal voudrait remercier tout le monde \npour le support.Le printemp arrive a grand pas\,donc d'a\npartir de la fin du mois de mai le Chill ouvrira les portes\nle dimanche dans la nuit et cela j'usqu'au prochain hiver..
CLASS:PUBLIC
CATEGORIES:
STATUS:CONFIRMED
PARTSTAT:ACCEPTED
END:VEVENT
END:VCALENDAR
