BEGIN:VCALENDAR
PRODID:RAVE.CA V17.0
X-WR-CALNAME:Piknic Electronik
X-ORIGINAL-URL:https://www.rave.ca/event/15569/
VERSION:2.0
CALSCALE:GREGORIAN
METHOD:PUBLISH
BEGIN:VEVENT
DTSTAMP:20070509T100130Z
LAST-MODIFIED:20070509T100130Z
CREATED:20070416T120350Z
SEQUENCE:15569
ORGANIZER:Piknic Electronik
DTSTART:20070520T130000Z
DTEND:20070520T210000Z
UID:event_15569@rave.ca
SUMMARY:Piknic Electronik
LOCATION:Parc Jean Drapeau
URL:https://www.rave.ca/event/15569/
DESCRIPTION:5$/7$ avant/après 15H\ngratuit pour les enfants de moins de 12 ans\n\nPremier piknic de l'année !
CLASS:PUBLIC
CATEGORIES:
STATUS:CONFIRMED
PARTSTAT:ACCEPTED
END:VEVENT
END:VCALENDAR
