BEGIN:VCALENDAR
PRODID:RAVE.CA V17.0
X-WR-CALNAME:Front Line Assembly &amp; Corrupted Suburbs
X-ORIGINAL-URL:https://www.rave.ca/event/15535/
VERSION:2.0
CALSCALE:GREGORIAN
METHOD:PUBLISH
BEGIN:VEVENT
DTSTAMP:20070413T233827Z
LAST-MODIFIED:20070413T233827Z
CREATED:20070413T233419Z
SEQUENCE:15535
ORGANIZER:Unknown
DTSTART:20070430T210000Z
DTEND:20070501T030000Z
UID:event_15535@rave.ca
SUMMARY:Front Line Assembly & Corrupted Suburbs
LOCATION:Dagobert
URL:https://www.rave.ca/event/15535/
DESCRIPTION:16$ prévente chez Rockstar\, Exo\, Vision Rock et www.billetech.com
CLASS:PUBLIC
CATEGORIES:
STATUS:CONFIRMED
PARTSTAT:ACCEPTED
END:VEVENT
END:VCALENDAR
