BEGIN:VCALENDAR
PRODID:RAVE.CA V17.0
X-WR-CALNAME:Chris&#039;s (redhat ) meniacle 2 day birthday extravaganza
X-ORIGINAL-URL:https://www.rave.ca/event/15468/
VERSION:2.0
CALSCALE:GREGORIAN
METHOD:PUBLISH
BEGIN:VEVENT
DTSTAMP:20070401T224219Z
LAST-MODIFIED:20070401T224219Z
CREATED:20070401T224140Z
SEQUENCE:15468
ORGANIZER:Unknown
DTSTART:20070223T210000Z
DTEND:20070223T210000Z
UID:event_15468@rave.ca
SUMMARY:Chris's (redhat ) meniacle 2 day birthday extravaganza
LOCATION:Unknown
URL:https://www.rave.ca/event/15468/
DESCRIPTION:Happy Birthday Menace!\n\nFriday February 23rd\, Barca Club(near confusion corner)\n\nI'll be having crazy shaker with all my friends! Please come out and help make it a birthday to remember!\nStarts at 9pm and goes till we be gettin kicked out!(Probably around 2:30am)\n\nCOVER 3$\n\nDJ's:\nMenace\nRico Dice and the Internets (a.k.a. Grudge & Turtle)\nKrisco\nWhupass\nand more to be listed very soon!!!\n\nDay 2 of the 2 day meniacle extravaganza...\n\nJUNGLE KART MADNESS!!\n\nFebruary 24th\, Speed World indoor go-kart tracks!\n\nOn saturday at around 6pm we will all be going to speed world for some indoor go karting fun! I would love to see everyone out and racing if you can! If anyone wants to come\, please MSG me so I can try to make a reservation for an appropriate amount of people!\n\nHope to see as many of you wonderful and fun people out as possible!! If anyone has any Questions just MSG me and I will get back to you ASAP!\n\n\nPEACE OUT
CLASS:PUBLIC
CATEGORIES:
STATUS:CONFIRMED
PARTSTAT:ACCEPTED
END:VEVENT
END:VCALENDAR
