BEGIN:VCALENDAR
PRODID:RAVE.CA V17.0
X-WR-CALNAME:Sublime tribute (Badfish)
X-ORIGINAL-URL:https://www.rave.ca/event/15462/
VERSION:2.0
CALSCALE:GREGORIAN
METHOD:PUBLISH
BEGIN:VEVENT
DTSTAMP:20070425T175835Z
LAST-MODIFIED:20070425T175835Z
CREATED:20070330T121957Z
SEQUENCE:15462
ORGANIZER:Unknown
DTSTART:20070429T200000Z
DTEND:20070429T200000Z
UID:event_15462@rave.ca
SUMMARY:Sublime tribute (Badfish)
LOCATION:Spectrum
URL:https://www.rave.ca/event/15462/
DESCRIPTION:
CLASS:PUBLIC
CATEGORIES:
STATUS:CONFIRMED
PARTSTAT:ACCEPTED
END:VEVENT
END:VCALENDAR
