BEGIN:VCALENDAR
PRODID:RAVE.CA V17.0
X-WR-CALNAME:Ritual Fridays
X-ORIGINAL-URL:https://www.rave.ca/event/15435/
VERSION:2.0
CALSCALE:GREGORIAN
METHOD:PUBLISH
BEGIN:VEVENT
DTSTAMP:20070326T005618Z
LAST-MODIFIED:20070326T005618Z
CREATED:20070326T005601Z
SEQUENCE:15435
ORGANIZER:Unknown
DTSTART:20070216T220000Z
DTEND:20070217T060000Z
UID:event_15435@rave.ca
SUMMARY:Ritual Fridays
LOCATION:Unknown
URL:https://www.rave.ca/event/15435/
DESCRIPTION:
CLASS:PUBLIC
CATEGORIES:
STATUS:CONFIRMED
PARTSTAT:ACCEPTED
END:VEVENT
END:VCALENDAR
