BEGIN:VCALENDAR
PRODID:RAVE.CA V17.0
X-WR-CALNAME:ADULT.
X-ORIGINAL-URL:https://www.rave.ca/event/15430/
VERSION:2.0
CALSCALE:GREGORIAN
METHOD:PUBLISH
BEGIN:VEVENT
DTSTAMP:20070326T002133Z
LAST-MODIFIED:20070326T002133Z
CREATED:20070326T001807Z
SEQUENCE:15430
ORGANIZER:Unknown
DTSTART:20070405T210000Z
DTEND:20070405T210000Z
UID:event_15430@rave.ca
SUMMARY:ADULT.
LOCATION:Sala Rossa\, La
URL:https://www.rave.ca/event/15430/
DESCRIPTION:ADULT w Erase Erata
CLASS:PUBLIC
CATEGORIES:
STATUS:CONFIRMED
PARTSTAT:ACCEPTED
END:VEVENT
END:VCALENDAR
