BEGIN:VCALENDAR
PRODID:RAVE.CA V17.0
X-WR-CALNAME:Blonde Redhead au Club Soda
X-ORIGINAL-URL:https://www.rave.ca/event/15409/
VERSION:2.0
CALSCALE:GREGORIAN
METHOD:PUBLISH
BEGIN:VEVENT
DTSTAMP:20070321T130940Z
LAST-MODIFIED:20070321T130940Z
CREATED:20070321T130843Z
SEQUENCE:15409
ORGANIZER:Unknown
DTSTART:20070512T200000Z
DTEND:20070512T200000Z
UID:event_15409@rave.ca
SUMMARY:Blonde Redhead au Club Soda
LOCATION:Club Soda
URL:https://www.rave.ca/event/15409/
DESCRIPTION:BLONDE REDHEAD!!!
CLASS:PUBLIC
CATEGORIES:
STATUS:CONFIRMED
PARTSTAT:ACCEPTED
END:VEVENT
END:VCALENDAR
