BEGIN:VCALENDAR
PRODID:RAVE.CA V17.0
X-WR-CALNAME:Maya Lounge
X-ORIGINAL-URL:https://www.rave.ca/event/15260/
VERSION:2.0
CALSCALE:GREGORIAN
METHOD:PUBLISH
BEGIN:VEVENT
DTSTAMP:20070228T203504Z
LAST-MODIFIED:20070228T203504Z
CREATED:20070228T115018Z
SEQUENCE:15260
ORGANIZER:Unknown
DTSTART:20070227T000000Z
DTEND:20070227T000000Z
UID:event_15260@rave.ca
SUMMARY:Maya Lounge
LOCATION:Isla Mujeres
URL:https://www.rave.ca/event/15260/
DESCRIPTION:
CLASS:PUBLIC
CATEGORIES:
STATUS:CONFIRMED
PARTSTAT:ACCEPTED
END:VEVENT
END:VCALENDAR
