BEGIN:VCALENDAR
PRODID:RAVE.CA V17.0
X-WR-CALNAME:Ibiza Azul
X-ORIGINAL-URL:https://www.rave.ca/event/15242/
VERSION:2.0
CALSCALE:GREGORIAN
METHOD:PUBLISH
BEGIN:VEVENT
DTSTAMP:20070225T143745Z
LAST-MODIFIED:20070225T143745Z
CREATED:20070225T140132Z
SEQUENCE:15242
ORGANIZER:Unknown
DTSTART:20070224T000000Z
DTEND:20070224T000000Z
UID:event_15242@rave.ca
SUMMARY:Ibiza Azul
LOCATION:Cancun\, Isla Mujeres
URL:https://www.rave.ca/event/15242/
DESCRIPTION:
CLASS:PUBLIC
CATEGORIES:
STATUS:CONFIRMED
PARTSTAT:ACCEPTED
END:VEVENT
END:VCALENDAR
