BEGIN:VCALENDAR
PRODID:RAVE.CA V17.0
X-WR-CALNAME:Maya Lounge
X-ORIGINAL-URL:https://www.rave.ca/event/15241/
VERSION:2.0
CALSCALE:GREGORIAN
METHOD:PUBLISH
BEGIN:VEVENT
DTSTAMP:20070225T143952Z
LAST-MODIFIED:20070225T143952Z
CREATED:20070225T135843Z
SEQUENCE:15241
ORGANIZER:Unknown
DTSTART:20070224T000000Z
DTEND:20070224T000000Z
UID:event_15241@rave.ca
SUMMARY:Maya Lounge
LOCATION:Cancun\, Isla Mujeres
URL:https://www.rave.ca/event/15241/
DESCRIPTION:
CLASS:PUBLIC
CATEGORIES:
STATUS:CONFIRMED
PARTSTAT:ACCEPTED
END:VEVENT
END:VCALENDAR
