BEGIN:VCALENDAR
PRODID:RAVE.CA V17.0
X-WR-CALNAME:Ix Chel
X-ORIGINAL-URL:https://www.rave.ca/event/15240/
VERSION:2.0
CALSCALE:GREGORIAN
METHOD:PUBLISH
BEGIN:VEVENT
DTSTAMP:20070225T143535Z
LAST-MODIFIED:20070225T143535Z
CREATED:20070225T135417Z
SEQUENCE:15240
ORGANIZER:Unknown
DTSTART:20070223T000000Z
DTEND:20070223T000000Z
UID:event_15240@rave.ca
SUMMARY:Ix Chel
LOCATION:Cancun\, Isla Mujeres
URL:https://www.rave.ca/event/15240/
DESCRIPTION:
CLASS:PUBLIC
CATEGORIES:
STATUS:CONFIRMED
PARTSTAT:ACCEPTED
END:VEVENT
END:VCALENDAR
